BEGIN:VCALENDAR
VERSION:2.0
PRODID:-//wp-events-plugin.com//7.2.3.1//EN
BEGIN:VEVENT
UID:65@gi.edu.co
DTSTART;TZID=America/Bogota:20240918T180000
DTEND;TZID=America/Bogota:20240918T200000
DTSTAMP:20240916T164558Z
URL:https://gi.edu.co/events/undergraduate-music-program-for-interested-pa
 rents-and-students-berklee-college-of-music/
SUMMARY:Undergraduate Music Program for Interested Parents and Students - B
 erklee College of Music
DESCRIPTION:
CATEGORIES:General
END:VEVENT
BEGIN:VTIMEZONE
TZID:America/Bogota
X-LIC-LOCATION:America/Bogota
BEGIN:STANDARD
DTSTART:20230919T180000
TZOFFSETFROM:-0500
TZOFFSETTO:-0500
TZNAME:-05
END:STANDARD
END:VTIMEZONE
END:VCALENDAR