BEGIN:VCALENDAR
VERSION:2.0
PRODID:-//wp-events-plugin.com//7.2.3.1//EN
BEGIN:VEVENT
UID:64@gi.edu.co
DTSTART;TZID=America/Bogota:20240911T073000
DTEND;TZID=America/Bogota:20240911T093000
DTSTAMP:20240902T203049Z
URL:https://gi.edu.co/events/stimulation-workshop-for-preschool-parents-ta
 ller-de-estimulacion-para-padres-de-preescolar/
SUMMARY:Stimulation workshop for preschool parents / Taller de estimulació
 n para padres de preescolar
DESCRIPTION:
CATEGORIES:Preschool
END:VEVENT
BEGIN:VTIMEZONE
TZID:America/Bogota
X-LIC-LOCATION:America/Bogota
BEGIN:STANDARD
DTSTART:20230912T073000
TZOFFSETFROM:-0500
TZOFFSETTO:-0500
TZNAME:-05
END:STANDARD
END:VTIMEZONE
END:VCALENDAR