BEGIN:VCALENDAR
VERSION:2.0
PRODID:-//wp-events-plugin.com//7.2.3.1//EN
BEGIN:VEVENT
UID:171@gi.edu.co
DTSTART;TZID=America/Bogota;VALUE=DATE:20250423
DTEND;TZID=America/Bogota;VALUE=DATE:20250424
DTSTAMP:20250409T172905Z
URL:https://gi.edu.co/events/language-day-dia-del-idioma/
SUMMARY:Language day / Día del idioma
DESCRIPTION:
CATEGORIES:General
END:VEVENT
BEGIN:VTIMEZONE
TZID:America/Bogota
X-LIC-LOCATION:America/Bogota
BEGIN:STANDARD
DTSTART:20240423T000000
TZOFFSETFROM:-0500
TZOFFSETTO:-0500
TZNAME:-05
END:STANDARD
END:VTIMEZONE
END:VCALENDAR