BEGIN:VCALENDAR
VERSION:2.0
PRODID:-//wp-events-plugin.com//7.2.3.1//EN
BEGIN:VEVENT
UID:56@gi.edu.co
DTSTART;TZID=America/Bogota:20240904T020000
DTEND;TZID=America/Bogota:20240904T033000
DTSTAMP:20240902T201535Z
URL:https://gi.edu.co/events/growth-hour/
SUMMARY:Growth Hour
DESCRIPTION:
CATEGORIES:Grow Hour
END:VEVENT
BEGIN:VTIMEZONE
TZID:America/Bogota
X-LIC-LOCATION:America/Bogota
BEGIN:STANDARD
DTSTART:20230905T020000
TZOFFSETFROM:-0500
TZOFFSETTO:-0500
TZNAME:-05
END:STANDARD
END:VTIMEZONE
END:VCALENDAR