BEGIN:VCALENDAR
VERSION:2.0
PRODID:-//wp-events-plugin.com//7.2.3.1//EN
BEGIN:VEVENT
UID:46@gi.edu.co
DTSTART;TZID=America/Bogota;VALUE=DATE:20240911
DTEND;TZID=America/Bogota;VALUE=DATE:20240914
DTSTAMP:20240902T202757Z
URL:https://gi.edu.co/events/gimun/
SUMMARY:GIMUN
DESCRIPTION:
CATEGORIES:Secondary
END:VEVENT
BEGIN:VTIMEZONE
TZID:America/Bogota
X-LIC-LOCATION:America/Bogota
BEGIN:STANDARD
DTSTART:20230912T000000
TZOFFSETFROM:-0500
TZOFFSETTO:-0500
TZNAME:-05
END:STANDARD
END:VTIMEZONE
END:VCALENDAR