BEGIN:VCALENDAR
VERSION:2.0
PRODID:-//wp-events-plugin.com//7.2.3.1//EN
BEGIN:VEVENT
UID:158@gi.edu.co
DTSTART;TZID=America/Bogota:20250411T080000
DTEND;TZID=America/Bogota:20250411T140000
DTSTAMP:20250409T164247Z
URL:https://gi.edu.co/events/field-trip-1-salida-pedagogica-1/
SUMMARY:Field Trip 1° - Salida pedagógica 1°
DESCRIPTION:
CATEGORIES:Elementary
END:VEVENT
BEGIN:VTIMEZONE
TZID:America/Bogota
X-LIC-LOCATION:America/Bogota
BEGIN:STANDARD
DTSTART:20240411T080000
TZOFFSETFROM:-0500
TZOFFSETTO:-0500
TZNAME:-05
END:STANDARD
END:VTIMEZONE
END:VCALENDAR