BEGIN:VCALENDAR
VERSION:2.0
PRODID:-//wp-events-plugin.com//7.2.3.1//EN
BEGIN:VEVENT
UID:69@gi.edu.co
DTSTART;TZID=America/Bogota:20240903T083000
DTEND;TZID=America/Bogota:20240903T090000
DTSTAMP:20240902T200938Z
URL:https://gi.edu.co/events/evacuation-drill-simulacro-de-evacuacion/
SUMMARY:Evacuation Drill / Simulacro de evacuación
DESCRIPTION:
CATEGORIES:General
END:VEVENT
BEGIN:VTIMEZONE
TZID:America/Bogota
X-LIC-LOCATION:America/Bogota
BEGIN:STANDARD
DTSTART:20230904T083000
TZOFFSETFROM:-0500
TZOFFSETTO:-0500
TZNAME:-05
END:STANDARD
END:VTIMEZONE
END:VCALENDAR