BEGIN:VCALENDAR
VERSION:2.0
PRODID:-//wp-events-plugin.com//7.2.3.1//EN
BEGIN:VEVENT
UID:87@gi.edu.co
DTSTART;TZID=America/Bogota;VALUE=DATE:20241024
DTEND;TZID=America/Bogota;VALUE=DATE:20241026
DTSTAMP:20240910T200849Z
URL:https://gi.edu.co/events/arts-fest-2024-festival-de-artes-2024/
SUMMARY:Arts Fest 2024 / Festival de Artes 2024
DESCRIPTION:
CATEGORIES:Secondary
END:VEVENT
BEGIN:VTIMEZONE
TZID:America/Bogota
X-LIC-LOCATION:America/Bogota
BEGIN:STANDARD
DTSTART:20231025T000000
TZOFFSETFROM:-0500
TZOFFSETTO:-0500
TZNAME:-05
END:STANDARD
END:VTIMEZONE
END:VCALENDAR