BEGIN:VCALENDAR
VERSION:2.0
PRODID:-//wp-events-plugin.com//7.2.3.1//EN
BEGIN:VEVENT
UID:51@gi.edu.co
DTSTART;TZID=America/Bogota:20240924T173000
DTEND;TZID=America/Bogota:20240924T200000
DTSTAMP:20240902T205322Z
URL:https://gi.edu.co/events/art-society-induction/
SUMMARY:Art Society Induction / Inducción a la Sociedad de Arte
DESCRIPTION:
CATEGORIES:Secondary
END:VEVENT
BEGIN:VTIMEZONE
TZID:America/Bogota
X-LIC-LOCATION:America/Bogota
BEGIN:STANDARD
DTSTART:20230925T173000
TZOFFSETFROM:-0500
TZOFFSETTO:-0500
TZNAME:-05
END:STANDARD
END:VTIMEZONE
END:VCALENDAR